Workbook

Sheet JOB općenito
B3: Poštovani,
B5: JEDINSTVENI OBRAZAC BANAKA služi kao popratna dokumentacija Vašem
B6: kreditnom zahtjevu, a ovisno o specifičnosti Vašeg poslovanja, banka Vas može tražiti
B7: dodatnu dokumentaciju (statusnu ili financijsku) potrebnu za obradu zahtjeva.
B9: U traženim podacima potrebno je ispuniti polja označena žutom bojom i to
B10: obvezni dio (popunjavaju svi gospodarski subjekti, neovisno o registraciji) te
B11: prilog - izaberite onaj koji se odnosi na Vaše poslovanje sukladno poreznim
B12: obvezama.
B14: U djelu ispunjavanja projekcije za tekuću godinu i za buduća razdoblja, potrebno
B15: je voditi brigu o sljedećem: ukoliko podnosite zahtjev za kratkoročno financiranje
B16: (rok otplate do godinu dana), potrebno je ispuniti projekciju za tekuću i slijedeću
B17: godinu. U slučaju da podnosite zahtjev za dugoročno financiranje (rok otplate duži
... B29: kontrolama. U primjeni od 15.11.2023. godine.

Sheet obvezni dio
A2: Naziv poslovnog subjekta i adresa:
A3: OIB:
A4: Stanje podataka na dan:
A5: Obveznik PDV-a (da ili ne):
A7: STRUKTURA KUPACA
A9: Naziv najvećih kupaca prema stanju potraživanja na dan naveden u zaglavlju obrasca | B9: OIB/PDV-ID | C9: Promet sa uključenim PDVom prethodne godine (01.01.-31.12.) | D9: Udio u prometu prethodne godine | E9: Promet sa uključenim PDV-om tekuće godine | F9: Udio u prometu tekuće godine | G9: Stanje potraživanja na dan naveden u zaglavlju dokumenta: | H9: od ukupnog iznosa potraživanja - iznos nedospjelog potraživanja | I9: stanje dospjelog potraživanja | L9: sumnjivo i/ili sporno potraživanje (da ili ne)
I10: do 30 dana | J10: od 30-90 dana | K10: više od 90 dana
D11: =C11/$C$21 -> #DIV/0! | F11: =E11/$E$21 -> #DIV/0!
D12: =C12/$C$21 -> #DIV/0! | F12: =E12/$E$21 -> #DIV/0!
D13: =C13/$C$21 -> #DIV/0! | F13: =E13/$E$21 -> #DIV/0!
D14: =C14/$C$21 -> #DIV/0! | F14: =E14/$E$21 -> #DIV/0!
D15: =C15/$C$21 -> #DIV/0! | F15: =E15/$E$21 -> #DIV/0!
D16: =C16/$C$21 -> #DIV/0! | F16: =E16/$E$21 -> #DIV/0!
D17: =C17/$C$21 -> #DIV/0! | F17: =E17/$E$21 -> #DIV/0!
D18: =C18/$C$21 -> #DIV/0! | F18: =E18/$E$21 -> #DIV/0!
A19: Ostali kupci | D19: =C19/$C$21 -> #DIV/0! | F19: =E19/$E$21 -> #DIV/0!
A20: Maloprodaja (ukupan promet) | D20: =C20/$C$21 -> #DIV/0! | F20: =E20/$E$21 -> #DIV/0!
A21: Ukupno: | C21: =SUM(C11:C20) -> 0 | D21: =C21/$C$21 -> #DIV/0! | E21: =SUM(E11:E20) -> 0 | F21: =SUM(F11:F20) -> #DIV/0! | G21: =SUM(G11:G20) -> 0 | H21: =SUM(H11:H20) -> 0 | I21: =SUM(I11:I20) -> 0 | J21: =SUM(J11:J20) -> 0 | K21: =SUM(K11:K20) -> 0
M22: =IF(((H21+I21+J21+K21)=G21), ("kontrole zadovoljene"), ("iznos ukupnih potraživanja ne odgovara zbroju nedospijelih i dospijelih potraživanja")) -> kontrole zadovoljene
A23: STRUKTURA DOBAVLJAČA
A25: Naziv najvećih dobavljača prema stanju obveza na dan naveden u zaglavlju obrasca | B25: OIB/PDV-ID | C25: Promet sa uključenim PDVom prethodne godine (01.01.-31.12.) | D25: Udio u prometu prethodne godine | E25: Promet sa uključenim PDV-om tekuće godine | F25: Udio u prometu tekuće godine | G25: Stanje obveza na dan naveden u zaglavlju dokumenta: | H25: od ukupnog iznosa obveza - iznos nedospjelih obveza | I25: stanje dospjelih obveza | L25: sporan iznos obveze (da ili ne)
I26: do 30 dana | J26: od 30-90 dana | K26: više od 90 dana
D27: =C27/$C$36 -> #DIV/0! | F27: =E27/$E$36 -> #DIV/0!
D28: =C28/$C$36 -> #DIV/0! | F28: =E28/$E$36 -> #DIV/0!
D29: =C29/$C$36 -> #DIV/0! | F29: =E29/$E$36 -> #DIV/0!
D30: =C30/$C$36 -> #DIV/0! | F30: =E30/$E$36 -> #DIV/0!
D31: =C31/$C$36 -> #DIV/0! | F31: =E31/$E$36 -> #DIV/0!
D32: =C32/$C$36 -> #DIV/0! | F32: =E32/$E$36 -> #DIV/0!
D33: =C33/$C$36 -> #DIV/0! | F33: =E33/$E$36 -> #DIV/0!
D34: =C34/$C$36 -> #DIV/0! | F34: =E34/$E$36 -> #DIV/0!
A35: Ostali dobavljači | D35: =C35/$C$36 -> #DIV/0! | F35: =E35/$E$36 -> #DIV/0!
A36: Ukupno: | C36: =SUM(C27:C35) -> 0 | D36: =C36/$C$36 -> #DIV/0! | E36: =SUM(E27:E35) -> 0 | F36: =SUM(F27:F35) -> #DIV/0! | G36: =SUM(G27:G35) -> 0 | H36: =SUM(H27:H35) -> 0 | I36: =SUM(I27:I35) -> 0 | J36: =SUM(J27:J35) -> 0 | K36: =SUM(K27:K35) -> 0
M37: =IF(((H36+I36+J36+K36)=G36), ("kontrole zadovoljene"), ("iznos ukupnih obveza ne odgovara zbroju nedospijelih i dospijelih obveza")) -> kontrole zadovoljene
A38: STRUKTURA OBVEZA ODOBRENIH KREDITA, LEASINGA, REPROGRAMIRANOG POREZNOG DUGA, POZAJMICA PRAVNIH/FIZIČKIH OSOBA I SL.
A40: Vrsta obveze | B40: Vjerovnik | D40: Povezana osoba / da ili ne | E40: Trenutno stanje duga glavnice | G40: Iznos obveze po glavnici koja dospijeva u tekućoj godini | I40: Iznos obveze po glavnici koja dospijeva u slijedećoj godini | K40: kamatna stopa | L40: Datum odobrenja i datum dospijeća
A51: Ukupno: | E51: =SUM(E41:F50) -> 0 | G51: =SUM(G41:H50) -> 0 | I51: =SUM(I41:J50) -> 0
M52: =IF(((G51+I51)=E51), ("kontrole zadovoljene"), ("iznos trenutnog stanja duga ne odgovara zbroju kratkoročnih i dugoročnih obveza")) -> kontrole zadovoljene
A53: STRUKTURA POTRAŽIVANJA ZA DANE POZAJMICE PRAVNIM ILI FIZIČKIM OSOBAMA ili druga financijska potraživanja
A55: Vrsta potraživanja | B55: Dužnik | D55: Povezana osoba / da ili ne | E55: Ugovorena dinamika povrata (mjesečno, godišnje, jednokratno) | G55: Odobreni iznos | I55: Iznos preostao za naplatu | K55: kamatna stopa | L55: datum odobrenja i datum dospijeća
A66: Ukupno: | G66: =SUM(G56:H65) -> 0 | I66: =SUM(I56:J65) -> 0
...

Sheet obvezni dio II
B5: Ukoliko imate dospjela potraživanja od kupaca duže od 90 dana, kratko obrazložiti:
B13: Ukoliko imate sumnjiva ili sporna potraživanja od kupaca , kratko obrazložiti:
B21: Ukoliko imate dospjele obveze dobavljačima duže od 90 dana, kratko obrazložiti:
B29: Ukoliko imate sporne obveze prema dobavljačima, kratko obrazložiti:
B37: Stanje zaliha na dan naveden u obrascu:
B41: Broj zaposlenih na dan naveden u obrascu:
H58: ='obvezni dio'!J69
H59: Ime i prezime, kontakt odgovorne osobe
M64: 2/3

Sheet prilog - porez na dobit
A1: PROJEKCIJA PRIHODA I RASHODA POSLOVANJA ZA RAZDOBLJE TRAŽENJA KREDITA (iznosi bez PDV-a)
A3: GODINA | B3: TEKUĆA GODINA | C3: TEKUĆA GODINA + 1 | D3: TEKUĆA GODINA + 2 | E3: TEKUĆA GODINA + 3 | F3: TEKUĆA GODINA + 4 | G3: TEKUĆA GODINA + 5
A4: POSLOVNI PRIHODI | B4: =SUM(B5+B8) -> 0 | C4: =SUM(C5+C8) -> 0 | D4: =SUM(D5+D8) -> 0 | E4: =SUM(E5+E8) -> 0 | F4: =SUM(F5+F8) -> 0 | G4: =SUM(G5+G8) -> 0
A5: Prihodi od prodaje | B5: =SUM(B6:B7) -> 0 | C5: =SUM(C6:C7) -> 0 | D5: =SUM(D6:D7) -> 0 | E5: =SUM(E6:E7) -> 0 | F5: =SUM(F6:F7) -> 0 | G5: =SUM(G6:G7) -> 0
A6: prodaja roba, usluga, proizvoda i sl.
A7: prodaja dugotrajne imovine
A8: Ostali poslovni prihodi | B8: =SUM(B9:B11) -> 0 | C8: =SUM(C9:C11) -> 0 | D8: =SUM(D9:D11) -> 0 | E8: =SUM(E9:E11) -> 0 | F8: =SUM(F9:F11) -> 0 | G8: =SUM(G9:G11) -> 0
A9: prihod od najma
A10: prihod od subvencija
A11: Ostali prihodi (ukidanje rezerviranja i sl.)
A12: POSLOVNI RASHODI | B12: =SUM(B13:B18) -> 0 | C12: =SUM(C13:C18) -> 0 | D12: =SUM(D13:D18) -> 0 | E12: =SUM(E13:E18) -> 0 | F12: =SUM(F13:F18) -> 0 | G12: =SUM(G13:G18) -> 0
A13: Rashodi materijala i usluga
A14: Rashodi za radnike (bruto II)
A15: Amortizacija
A16: Vrijednosno usklađivanje (osim financ. imov.)
A17: Rahodi rezerviranja
A18: Ostali poslovni rashodi
A19: * od toga vezano za prodaju dugotrajne imovine
A20: EBITDA | B20: =B22+B15 -> 0 | C20: =C22+C15 -> 0 | D20: =D22+D15 -> 0 | E20: =E22+E15 -> 0 | F20: =F22+F15 -> 0 | G20: =G22+G15 -> 0
A21: EBITDA marža | B21: =B20/(B4-B7) -> #DIV/0! | C21: =C20/(C4-C7) -> #DIV/0! | D21: =D20/(D4-D7) -> #DIV/0! | E21: =E20/(E4-E7) -> #DIV/0! | F21: =F20/(F4-F7) -> #DIV/0! | G21: =G20/(G4-G7) -> #DIV/0!
A22: EBIT | B22: =B4-B7-B12+B19 -> 0 | C22: =C4-C7-C12+C19 -> 0 | D22: =D4-D7-D12+D19 -> 0 | E22: =E4-E7-E12+E19 -> 0 | F22: =F4-F7-F12+F19 -> 0 | G22: =G4-G7-G12+G19 -> 0
A23: Financijski prihodi
A24: Financijski rashodi
A25: UKUPNI PRIHODI | B25: =B4+B23 -> 0 | C25: =C4+C23 -> 0 | D25: =D4+D23 -> 0 | E25: =E4+E23 -> 0 | F25: =F4+F23 -> 0 | G25: =G4+G23 -> 0
A26: UKUPNI RASHODI | B26: =B12+B24 -> 0 | C26: =C12+C24 -> 0 | D26: =D12+D24 -> 0 | E26: =E12+E24 -> 0 | F26: =F12+F24 -> 0 | G26: =G12+G24 -> 0
A27: DOBIT/GUBITAK PRIJE OPOREZIVANJA | B27: =B25-B26 -> 0 | C27: =C25-C26 -> 0 | D27: =D25-D26 -> 0 | E27: =E25-E26 -> 0 | F27: =F25-F26 -> 0 | G27: =G25-G26 -> 0
A28: Porez na dobit
A29: DOBIT/GUBITAK NAKON OPOREZIVANJA | B29: =B27-B28 -> 0 | C29: =C27-C28 -> 0 | D29: =D27-D28 -> 0 | E29: =E27-E28 -> 0 | F29: =F27-F28 -> 0 | G29: =G27-G28 -> 0
E31: ='obvezni dio'!$J$69
E32: Ime i prezime, kontakt odgovorne osobe

Sheet prilog - porez na dohodak
A1: PROJEKCIJA PRIMITAKA I IZDATAKA POSLOVANJA ZA RAZDOBLJE TRAŽENJA KREDITA (iznosi bez PDV-a)
A3: PODACI / GODINA | C3: TEKUĆA GODINA | D3: TEKUĆA GODINA + 1 | E3: TEKUĆA GODINA + 2 | F3: TEKUĆA GODINA + 3 | G3: TEKUĆA GODINA + 4 | H3: TEKUĆA GODINA + 5
A4: IZNOS MJESEČNOG OSOBNOG ODBITKA | B4: 560
A5: STOPA POREZA NA DOHODAK | B5: 0.1
A7: NENAPLAĆENI IZDANI RAČUNI PRETHODNIH GODINA | D7: =C7+C8-C9 -> 0 | E7: =D7+D8-D9 -> 0 | F7: =E7+E8-E9 -> 0 | G7: =F7+F8-F9 -> 0 | H7: =G7+G8-G9 -> 0
A8: IZDANI RAČUNI U TEKUĆOJ GODINI
A9: NAPLAĆENI IZDANI RAČUNI
A10: * od toga za prodaju dugotrajne imovine
A11: ostali primici
A12: UKUPNI IZNOS PRIMITAKA U TEKUĆOJ GODINI | C12: =C9+C11 -> 0 | D12: =D9+D11 -> 0 | E12: =E9+E11 -> 0 | F12: =F9+F11 -> 0 | G12: =G9+G11 -> 0 | H12: =H9+H11 -> 0
A14: NEPLAĆENI PRIMLJENI RAČUNI PRETHODNIH GODINA | D14: =C14+C15-C16 -> 0 | E14: =D14+D15-D16 -> 0 | F14: =E14+E15-E16 -> 0 | G14: =F14+F15-F16 -> 0 | H14: =G14+G15-G16 -> 0
A15: PRIMLJENI ULAZNI RAČUNI U TEKUĆOJ GODINI
A16: PLAĆENI ULAZNI RAČUNI
A17: plaćeni doprinosi za vlasnika obrta
A18: plaćeni izdaci za radnike
A19: ostali izdaci
A20: * od toga izdaci vezani uz prodanu dugotrajnu imovinu
A21: UKUPNI IZNOS IZDATAKA U TEKUĆOJ GODINI | C21: =C16+C17+C18+C19 -> 0 | D21: =D16+D17+D18+D19 -> 0 | E21: =E16+E17+E18+E19 -> 0 | F21: =F16+F17+F18+F19 -> 0 | G21: =G16+G17+G18+G19 -> 0 | H21: =H16+H17+H18+H19 -> 0
A23: Izdatak amortizacije
A25: DOHODAK PRIJE OPOREZIVANJA | C25: =C12-C21-C23 -> 0 | D25: =D12-D21-D23 -> 0 | E25: =E12-E21-E23 -> 0 | F25: =F12-F21-F23 -> 0 | G25: =G12-G21-G23 -> 0 | H25: =H12-H21-H23 -> 0
A26: OSOBNI ODBITAK | C26: =$B$4*12 -> 6720 | D26: =$B$4*12 -> 6720 | E26: =$B$4*12 -> 6720 | F26: =$B$4*12 -> 6720 | G26: =$B$4*12 -> 6720 | H26: =$B$4*12 -> 6720
A27: OSNOVICA ZA OPOREZIVANJE | C27: =IF(C25>C26,C25-C26,0) -> 0 | D27: =IF(D25>D26,D25-D26,0) -> 0 | E27: =IF(E25>E26,E25-E26,0) -> 0 | F27: =IF(F25>F26,F25-F26,0) -> 0 | G27: =IF(G25>G26,G25-G26,0) -> 0 | H27: =IF(H25>H26,H25-H26,0) -> 0
A28: POREZ NA DOHODAK | C28: =C27*$B$5 -> 0 | D28: =D27*$B$5 -> 0 | E28: =E27*$B$5 -> 0 | F28: =F27*$B$5 -> 0 | G28: =G27*$B$5 -> 0 | H28: =H27*$B$5 -> 0
A29: OSTVARENI DOHODAK NAKON OPOREZIVANJA | C29: =C25-C28 -> 0 | D29: =D25-D28 -> 0 | E29: =E25-E28 -> 0 | F29: =F25-F28 -> 0 | G29: =G25-G28 -> 0 | H29: =H25-H28 -> 0
F31: ='obvezni dio'!$J$69
F32: Ime i prezime, kontakt odgovorne osobe

Sheet prilog - paušalno oporezivanje
A1: PROJEKCIJA POSLOVANJA ZA RAZDOBLJE TRAŽENJA KREDITA (iznosi bez PDV-a)
A3: GODINA | C3: TEKUĆA GODINA | D3: TEKUĆA GODINA + 1 | E3: TEKUĆA GODINA + 2 | F3: TEKUĆA GODINA + 3 | G3: TEKUĆA GODINA + 4 | H3: TEKUĆA GODINA + 5
A4: Da li je vlasnik obrta prijavljen u obrtu (da / ne)
A5: Osnovica za doprinose u tekućoj godini | B5: 546.87
A6: Stopa poreza na dohodak | B6: 0.12
A8: Nenaplaćeni računi prethodnih razdoblja | D8: =C8+C9-C10 -> 0 | E8: =D8+D9-D10 -> 0 | F8: =E8+E9-E10 -> 0 | G8: =F8+F9-F10 -> 0 | H8: =G8+G9-G10 -> 0
A9: Izdani računi u tekućem razdoblju
A10: Iznos naplaćenih računa u tekućem razdoblju
A11: Ostali (naplaćeni) primici razdoblja
A12: PRIMICI TEKUĆEG RAZDOBLJA | C12: =C10+C11 -> 0 | D12: =D10+D11 -> 0 | E12: =E10+E11 -> 0 | F12: =F10+F11 -> 0 | G12: =G10+G11 -> 0 | H12: =H10+H11 -> 0
A14: Godišnji paušalni dohodak | C14: =IF(C12<=11300,1695,IF(AND(C12>11300,C12<=15300),2295,IF(AND(C12>15300,C12<=19900),2985,IF(AND(C12>19900,C12<=30600),4590,IF(AND(C12>30600,C12<=40000),6000,IF(C12>40000,"promjena sustava")))))) -> 1695 | D14: =IF(D12<=11300,1695,IF(AND(D12>11300,D12<=15300),2295,IF(AND(D12>15300,D12<=19900),2985,IF(AND(D12>19900,D12<=30600),4590,IF(AND(D12>30600,D12<=40000),6000,IF(D12>40000,"promjena sustava")))))) -> 1695 | E14: =IF(E12<=11300,1695,IF(AND(E12>11300,E12<=15300),2295,IF(AND(E12>15300,E12<=19900),2985,IF(AND(E12>19900,E12<=30600),4590,IF(AND(E12>30600,E12<=40000),6000,IF(E12>40000,"promjena sustava")))))) -> 1695 | F14: =IF(F12<=11300,1695,IF(AND(F12>11300,F12<=15300),2295,IF(AND(F12>15300,F12<=19900),2985,IF(AND(F12>19900,F12<=30600),4590,IF(AND(F12>30600,F12<=40000),6000,IF(F12>40000,"promjena sustava")))))) -> 1695 | G14: =IF(G12<=11300,1695,IF(AND(G12>11300,G12<=15300),2295,IF(AND(G12>15300,G12<=19900),2985,IF(AND(G12>19900,G12<=30600),4590,IF(AND(G12>30600,G12<=40000),6000,IF(G12>40000,"promjena sustava")))))) -> 1695 | H14: =IF(H12<=11300,1695,IF(AND(H12>11300,H12<=15300),2295,IF(AND(H12>15300,H12<=19900),2985,IF(AND(H12>19900,H12<=30600),4590,IF(AND(H12>30600,H12<=40000),6000,IF(H12>40000,"promjena sustava")))))) -> 1695
A15: Godišnja porezna obveza | C15: =C14*$B$6 -> 203.4 | D15: =D14*$B$6 -> 203.4 | E15: =E14*$B$6 -> 203.4 | F15: =F14*$B$6 -> 203.4 | G15: =G14*$B$6 -> 203.4 | H15: =H14*$B$6 -> 203.4
A16: Doprinosi obrtnika (prijava na obrt) | C16: =IF(($B$4="da"), 12*$B$5*36.5/100, 0) -> 0 | D16: =IF(($B$4="da"), 12*$B$5*36.5/100, 0) -> 0 | E16: =IF(($B$4="da"), 12*$B$5*36.5/100, 0) -> 0 | F16: =IF(($B$4="da"), 12*$B$5*36.5/100, 0) -> 0 | G16: =IF(($B$4="da"), 12*$B$5*36.5/100, 0) -> 0 | H16: =IF(($B$4="da"), 12*$B$5*36.5/100, 0) -> 0
A17: Doprinosi obrtnika (obrt kao drugi dohodak) | C17: =IF(($B$4="ne"),C14* 17.5/100, 0) -> 0 | D17: =IF(($B$4="ne"),D14* 17.5/100, 0) -> 0 | E17: =IF(($B$4="ne"),E14* 17.5/100, 0) -> 0 | F17: =IF(($B$4="ne"),F14* 17.5/100, 0) -> 0 | G17: =IF(($B$4="ne"),G14* 17.5/100, 0) -> 0 | H17: =IF(($B$4="ne"),H14* 17.5/100, 0) -> 0
A19: Materijalni troškovi poslovanja (telefon, najam… i sl.) sa uključenim PDV-om
A20: Troškovi zaposlenih radnika
A21: SREDSTVA NA RASPOLAGANJU ZA UTVRĐIVANJE KREDITNE SPOSOBNOSTI | C21: =C12-C15-C16-C17-C19-C20 -> -203.4 | D21: =D12-D15-D16-D17-D19-D20 -> -203.4 | E21: =E12-E15-E16-E17-E19-E20 -> -203.4 | F21: =F12-F15-F16-F17-F19-F20 -> -203.4 | G21: =G12-G15-G16-G17-G19-G20 -> -203.4 | H21: =H12-H15-H16-H17-H19-H20 -> -203.4
F24: ='obvezni dio'!$J$69
F25: Ime i prezime, kontakt odgovorne osobe

Sheet prilog - neprofitne organiz.
A1: PROJEKCIJA PRIHODA I RASHODA POSLOVANJA ZA RAZDOBLJE TRAŽENJA KREDITA (iznosi sa PDV-om)
A3: GODINA | B3: TEKUĆA GODINA | C3: TEKUĆA GODINA + 1 | D3: TEKUĆA GODINA + 2 | E3: TEKUĆA GODINA + 3 | F3: TEKUĆA GODINA + 4 | G3: TEKUĆA GODINA + 5
A4: PRIHODI | B4: =SUM(B5:B11) -> 0 | C4: =SUM(C5:C11) -> 0 | D4: =SUM(D5:D11) -> 0 | E4: =SUM(E5:E11) -> 0 | F4: =SUM(F5:F11) -> 0 | G4: =SUM(G5:G11) -> 0
A5: Prihodi od gospodarske djelatnosti
A6: Prihodi od članarina
A7: Prihodi po posebnim propisima
A8: Prihodi od imovine (kamate i sl.)
A9: Prihodi od zakupa
A10: Prihodi od donacija
A11: Prihodi ostali
A12: POSLOVNI RASHODI | B12: =SUM(B13:B19) -> 0 | C12: =SUM(C13:C19) -> 0 | D12: =SUM(D13:D19) -> 0 | E12: =SUM(E13:E19) -> 0 | F12: =SUM(F13:F19) -> 0 | G12: =SUM(G13:G19) -> 0
A13: Rashodi za radnike (bruto II)
A14: Materijalni rashodi
A15: Amortizacija
A16: Financijski rashodi
A17: Donacije
A18: Rashodi ostali
A19: Rashodi vezani uz financiranje povezanih NO
A20: Višak / manjak prenesenih prihoda | C20: =B23 -> 0 | D20: =C23 -> 0 | E20: =D23 -> 0 | F20: =E23 -> 0 | G20: =F23 -> 0
A21: Višak / manjak tekućeg rashoda | B21: =B4-B12 -> 0 | C21: =C4-C12 -> 0 | D21: =D4-D12 -> 0 | E21: =E4-E12 -> 0 | F21: =F4-F12 -> 0 | G21: =G4-G12 -> 0
A22: Obveza poreza na dobit po obračunu
A23: Višak/manjak prihoda raspoloživ u sljedećem razdoblju | B23: =B20+B21-B22 -> 0 | C23: =C20+C21-C22 -> 0 | D23: =D20+D21-D22 -> 0 | E23: =E20+E21-E22 -> 0 | F23: =F20+F21-F22 -> 0 | G23: =G20+G21-G22 -> 0
E26: ='obvezni dio'!$J$69
E27: Ime i prezime, kontakt odgovorne osobe
